BEGIN:VCALENDAR
VERSION:2.0
CALSCALE:GREGORIAN
PRODID:-//Diputació de Barcelona//DibaCMS//EN
BEGIN:VEVENT
UID:22578
DTSTAMP:20260424T124820
DTSTART:20091016T000000
DTEND:20091016T000000
SUMMARY:Bones pràctiques comercials
LOCATION:
METHOD:PUBLISH
X-WR-CALNAME:e-seu@ajpiera.cat
X-WR-TIMEZONE:Europe/Madrid
DESCRIPTION:Bones pràctiques comercials
URI:https://www.viladepiera.cat/actualitat/agenda/bones-practiques-comercials.html
CLASS:PUBLIC
END:VEVENT
END:VCALENDAR
