BEGIN:VCALENDAR
VERSION:2.0
CALSCALE:GREGORIAN
PRODID:-//Diputació de Barcelona//DibaCMS//EN
BEGIN:VEVENT
UID:22579
DTSTAMP:20260424T092415
DTSTART:20091016T000000
DTEND:20091016T000000
SUMMARY:62ena Festa de la Gent Gran
LOCATION:
METHOD:PUBLISH
X-WR-CALNAME:e-seu@ajpiera.cat
X-WR-TIMEZONE:Europe/Madrid
DESCRIPTION:62ena Festa de la Gent Gran
URI:https://www.viladepiera.cat/actualitat/agenda/22579-62ena-festa-de-la-gent-gran.html
CLASS:PUBLIC
END:VEVENT
END:VCALENDAR
