BEGIN:VCALENDAR
VERSION:2.0
CALSCALE:GREGORIAN
PRODID:-//Diputació de Barcelona//DibaCMS//EN
BEGIN:VEVENT
UID:22582
DTSTAMP:20260424T135852
DTSTART:20091017T073000
DTEND:20091017T000000
SUMMARY:Sortida cultural
LOCATION:
METHOD:PUBLISH
X-WR-CALNAME:e-seu@ajpiera.cat
X-WR-TIMEZONE:Europe/Madrid
DESCRIPTION:Sortida cultural
URI:https://www.viladepiera.cat/actualitat/agenda/sortida-cultural.html
CLASS:PUBLIC
END:VEVENT
END:VCALENDAR
