BEGIN:VCALENDAR
VERSION:2.0
CALSCALE:GREGORIAN
PRODID:-//Diputació de Barcelona//DibaCMS//EN
BEGIN:VEVENT
UID:22584
DTSTAMP:20260424T140530
DTSTART:20091018T000000
DTEND:20091018T000000
SUMMARY:Romiatge a Montserrat
LOCATION:
METHOD:PUBLISH
X-WR-CALNAME:e-seu@ajpiera.cat
X-WR-TIMEZONE:Europe/Madrid
DESCRIPTION:Romiatge a Montserrat
URI:https://www.viladepiera.cat/actualitat/agenda/22584-romiatge-a-montserrat.html
CLASS:PUBLIC
END:VEVENT
END:VCALENDAR
