BEGIN:VCALENDAR
VERSION:2.0
CALSCALE:GREGORIAN
PRODID:-//Diputació de Barcelona//DibaCMS//EN
BEGIN:VEVENT
UID:22587
DTSTAMP:20260424T130426
DTSTART:20091019T200000
DTEND:20091019T000000
SUMMARY:Joan Corbella: Educar amb valors
LOCATION:
METHOD:PUBLISH
X-WR-CALNAME:e-seu@ajpiera.cat
X-WR-TIMEZONE:Europe/Madrid
DESCRIPTION:Joan Corbella: Educar amb valors
URI:https://www.viladepiera.cat/actualitat/agenda/joan-corbella-educar-amb-valors.html
CLASS:PUBLIC
END:VEVENT
END:VCALENDAR
