BEGIN:VCALENDAR
VERSION:2.0
CALSCALE:GREGORIAN
PRODID:-//Diputació de Barcelona//DibaCMS//EN
BEGIN:VEVENT
UID:22590
DTSTAMP:20260424T152444
DTSTART:20091024T090000
DTEND:20091024T140000
SUMMARY:Acapte de Sang
LOCATION:
METHOD:PUBLISH
X-WR-CALNAME:e-seu@ajpiera.cat
X-WR-TIMEZONE:Europe/Madrid
DESCRIPTION:Acapte de Sang
URI:https://www.viladepiera.cat/actualitat/agenda/22590-acapte-de-sang.html
CLASS:PUBLIC
END:VEVENT
END:VCALENDAR
