BEGIN:VCALENDAR
VERSION:2.0
CALSCALE:GREGORIAN
PRODID:-//Diputació de Barcelona//DibaCMS//EN
BEGIN:VEVENT
UID:22592
DTSTAMP:20260424T153015
DTSTART:20091024T110000
DTEND:20091024T000000
SUMMARY:Taller llenguatge de signes
LOCATION:
METHOD:PUBLISH
X-WR-CALNAME:e-seu@ajpiera.cat
X-WR-TIMEZONE:Europe/Madrid
DESCRIPTION:Taller llenguatge de signes
URI:https://www.viladepiera.cat/actualitat/agenda/taller-llenguatge-de-signes.html
CLASS:PUBLIC
END:VEVENT
END:VCALENDAR
