BEGIN:VCALENDAR
VERSION:2.0
CALSCALE:GREGORIAN
PRODID:-//Diputació de Barcelona//DibaCMS//EN
BEGIN:VEVENT
UID:22595
DTSTAMP:20260424T111854
DTSTART:20091027T000000
DTEND:20091027T000000
SUMMARY:Tarda de tardor 
LOCATION:
METHOD:PUBLISH
X-WR-CALNAME:e-seu@ajpiera.cat
X-WR-TIMEZONE:Europe/Madrid
DESCRIPTION:Tarda de tardor 
URI:https://www.viladepiera.cat/actualitat/agenda/tarda-de-tardor-.html
CLASS:PUBLIC
END:VEVENT
END:VCALENDAR
