BEGIN:VCALENDAR
VERSION:2.0
CALSCALE:GREGORIAN
PRODID:-//Diputació de Barcelona//DibaCMS//EN
BEGIN:VEVENT
UID:22597
DTSTAMP:20260424T095236
DTSTART:20091029T180000
DTEND:20091029T000000
SUMMARY:Conte: Les butxaques del mar
LOCATION:
METHOD:PUBLISH
X-WR-CALNAME:e-seu@ajpiera.cat
X-WR-TIMEZONE:Europe/Madrid
DESCRIPTION:Conte: Les butxaques del mar
URI:https://www.viladepiera.cat/actualitat/agenda/conte-les-butxaques-del-mar.html
CLASS:PUBLIC
END:VEVENT
END:VCALENDAR
