BEGIN:VCALENDAR
VERSION:2.0
CALSCALE:GREGORIAN
PRODID:-//Diputació de Barcelona//DibaCMS//EN
BEGIN:VEVENT
UID:22600
DTSTAMP:20260424T095007
DTSTART:20091031T000000
DTEND:20091031T000000
SUMMARY:Castanyada
LOCATION:
METHOD:PUBLISH
X-WR-CALNAME:e-seu@ajpiera.cat
X-WR-TIMEZONE:Europe/Madrid
DESCRIPTION:Castanyada
URI:https://www.viladepiera.cat/actualitat/agenda/castanyada.html
CLASS:PUBLIC
END:VEVENT
END:VCALENDAR
