BEGIN:VCALENDAR
VERSION:2.0
CALSCALE:GREGORIAN
PRODID:-//Diputació de Barcelona//DibaCMS//EN
BEGIN:VEVENT
UID:22605
DTSTAMP:20260424T145755
DTSTART:20091103T150000
DTEND:20091103T000000
SUMMARY:Presentació Estudi de comerç
LOCATION:
METHOD:PUBLISH
X-WR-CALNAME:e-seu@ajpiera.cat
X-WR-TIMEZONE:Europe/Madrid
DESCRIPTION:Presentació Estudi de comerç
URI:https://www.viladepiera.cat/actualitat/agenda/22605-presentacio-estudi-de-comerc.html
CLASS:PUBLIC
END:VEVENT
END:VCALENDAR
