BEGIN:VCALENDAR
VERSION:2.0
CALSCALE:GREGORIAN
PRODID:-//Diputació de Barcelona//DibaCMS//EN
BEGIN:VEVENT
UID:22609
DTSTAMP:20260424T115721
DTSTART:20091110T190000
DTEND:20091110T000000
SUMMARY:Lluís Llach, 40 anys de cançons
LOCATION:
METHOD:PUBLISH
X-WR-CALNAME:e-seu@ajpiera.cat
X-WR-TIMEZONE:Europe/Madrid
DESCRIPTION:Lluís Llach, 40 anys de cançons
URI:https://www.viladepiera.cat/actualitat/agenda/lluis-llach-40-anys-de-cancons.html
CLASS:PUBLIC
END:VEVENT
END:VCALENDAR
