BEGIN:VCALENDAR
VERSION:2.0
CALSCALE:GREGORIAN
PRODID:-//Diputació de Barcelona//DibaCMS//EN
BEGIN:VEVENT
UID:22611
DTSTAMP:20260424T070120
DTSTART:20091116T150000
DTEND:20091116T190000
SUMMARY:Informació de TDT
LOCATION:
METHOD:PUBLISH
X-WR-CALNAME:e-seu@ajpiera.cat
X-WR-TIMEZONE:Europe/Madrid
DESCRIPTION:Informació de TDT
URI:https://www.viladepiera.cat/actualitat/agenda/informacio-de-tdt.html
CLASS:PUBLIC
END:VEVENT
END:VCALENDAR
