BEGIN:VCALENDAR
VERSION:2.0
CALSCALE:GREGORIAN
PRODID:-//Diputació de Barcelona//DibaCMS//EN
BEGIN:VEVENT
UID:22612
DTSTAMP:20260424T125503
DTSTART:20091117T180000
DTEND:20091117T000000
SUMMARY:Conferència sobre comerç just
LOCATION:
METHOD:PUBLISH
X-WR-CALNAME:e-seu@ajpiera.cat
X-WR-TIMEZONE:Europe/Madrid
DESCRIPTION:Conferència sobre comerç just
URI:https://www.viladepiera.cat/actualitat/agenda/conferencia-sobre-comerc-just.html
CLASS:PUBLIC
END:VEVENT
END:VCALENDAR
