BEGIN:VCALENDAR
VERSION:2.0
CALSCALE:GREGORIAN
PRODID:-//Diputació de Barcelona//DibaCMS//EN
BEGIN:VEVENT
UID:22613
DTSTAMP:20260424T103831
DTSTART:20091117T150000
DTEND:20091117T190000
SUMMARY:Informació de TDT 2
LOCATION:
METHOD:PUBLISH
X-WR-CALNAME:e-seu@ajpiera.cat
X-WR-TIMEZONE:Europe/Madrid
DESCRIPTION:Informació de TDT 2
URI:https://www.viladepiera.cat/actualitat/agenda/informacio-de-tdt-2.html
CLASS:PUBLIC
END:VEVENT
END:VCALENDAR
