BEGIN:VCALENDAR
VERSION:2.0
CALSCALE:GREGORIAN
PRODID:-//Diputació de Barcelona//DibaCMS//EN
BEGIN:VEVENT
UID:22614
DTSTAMP:20260424T130602
DTSTART:20091120T180000
DTEND:20091120T000000
SUMMARY:Xerrada i tast
LOCATION:
METHOD:PUBLISH
X-WR-CALNAME:e-seu@ajpiera.cat
X-WR-TIMEZONE:Europe/Madrid
DESCRIPTION:Xerrada i tast
URI:https://www.viladepiera.cat/actualitat/agenda/xerrada-i-tast.html
CLASS:PUBLIC
END:VEVENT
END:VCALENDAR
