BEGIN:VCALENDAR
VERSION:2.0
CALSCALE:GREGORIAN
PRODID:-//Diputació de Barcelona//DibaCMS//EN
BEGIN:VEVENT
UID:22616
DTSTAMP:20260424T093133
DTSTART:20091121T120000
DTEND:20091121T000000
SUMMARY:Audicions musicals de Sta. Cecília
LOCATION:
METHOD:PUBLISH
X-WR-CALNAME:e-seu@ajpiera.cat
X-WR-TIMEZONE:Europe/Madrid
DESCRIPTION:Audicions musicals de Sta. Cecília
URI:https://www.viladepiera.cat/actualitat/agenda/audicions-musicals-de-sta-cecilia.html
CLASS:PUBLIC
END:VEVENT
END:VCALENDAR
