BEGIN:VCALENDAR
VERSION:2.0
CALSCALE:GREGORIAN
PRODID:-//Diputació de Barcelona//DibaCMS//EN
BEGIN:VEVENT
UID:22617
DTSTAMP:20260424T081829
DTSTART:20091122T090000
DTEND:20091122T130000
SUMMARY:Informació de TDT 3
LOCATION:
METHOD:PUBLISH
X-WR-CALNAME:e-seu@ajpiera.cat
X-WR-TIMEZONE:Europe/Madrid
DESCRIPTION:Informació de TDT 3
URI:https://www.viladepiera.cat/actualitat/agenda/informacio-de-tdt-3.html
CLASS:PUBLIC
END:VEVENT
END:VCALENDAR
