BEGIN:VCALENDAR
VERSION:2.0
CALSCALE:GREGORIAN
PRODID:-//Diputació de Barcelona//DibaCMS//EN
BEGIN:VEVENT
UID:22625
DTSTAMP:20260424T113351
DTSTART:20091128T170000
DTEND:20091128T200000
SUMMARY:Festa Dispiera
LOCATION:
METHOD:PUBLISH
X-WR-CALNAME:e-seu@ajpiera.cat
X-WR-TIMEZONE:Europe/Madrid
DESCRIPTION:Festa Dispiera
URI:https://www.viladepiera.cat/actualitat/agenda/festa-dispiera.html
CLASS:PUBLIC
END:VEVENT
END:VCALENDAR
