BEGIN:VCALENDAR
VERSION:2.0
CALSCALE:GREGORIAN
PRODID:-//Diputació de Barcelona//DibaCMS//EN
BEGIN:VEVENT
UID:22628
DTSTAMP:20260424T080152
DTSTART:20091129T100000
DTEND:20091129T000000
SUMMARY:Festa de la Rosta i Fira d'Hivern
LOCATION:
METHOD:PUBLISH
X-WR-CALNAME:e-seu@ajpiera.cat
X-WR-TIMEZONE:Europe/Madrid
DESCRIPTION:Festa de la Rosta i Fira d'Hivern
URI:https://www.viladepiera.cat/actualitat/agenda/festa-de-la-rosta-i-fira-dhivern.html
CLASS:PUBLIC
END:VEVENT
END:VCALENDAR
