BEGIN:VCALENDAR
VERSION:2.0
CALSCALE:GREGORIAN
PRODID:-//Diputació de Barcelona//DibaCMS//EN
BEGIN:VEVENT
UID:22629
DTSTAMP:20260424T134103
DTSTART:20091129T170000
DTEND:20091129T000000
SUMMARY:Exhibició de Ball
LOCATION:
METHOD:PUBLISH
X-WR-CALNAME:e-seu@ajpiera.cat
X-WR-TIMEZONE:Europe/Madrid
DESCRIPTION:Exhibició de Ball
URI:https://www.viladepiera.cat/actualitat/agenda/exhibicio-de-ball.html
CLASS:PUBLIC
END:VEVENT
END:VCALENDAR
