BEGIN:VCALENDAR
VERSION:2.0
CALSCALE:GREGORIAN
PRODID:-//Diputació de Barcelona//DibaCMS//EN
BEGIN:VEVENT
UID:22630
DTSTAMP:20260424T090705
DTSTART:20091202T180000
DTEND:20091202T000000
SUMMARY:Xerrada sobre el càncer de mama
LOCATION:
METHOD:PUBLISH
X-WR-CALNAME:e-seu@ajpiera.cat
X-WR-TIMEZONE:Europe/Madrid
DESCRIPTION:Xerrada sobre el càncer de mama
URI:https://www.viladepiera.cat/actualitat/agenda/22630-xerrada-sobre-el-cancer-de-mama.html
CLASS:PUBLIC
END:VEVENT
END:VCALENDAR
