BEGIN:VCALENDAR
VERSION:2.0
CALSCALE:GREGORIAN
PRODID:-//Diputació de Barcelona//DibaCMS//EN
BEGIN:VEVENT
UID:22631
DTSTAMP:20260424T091701
DTSTART:20091203T180000
DTEND:20091203T000000
SUMMARY:«L'aigua, un bé escàs»
LOCATION:
METHOD:PUBLISH
X-WR-CALNAME:e-seu@ajpiera.cat
X-WR-TIMEZONE:Europe/Madrid
DESCRIPTION:«L'aigua, un bé escàs»
URI:https://www.viladepiera.cat/actualitat/agenda/laigua-un-be-escas.html
CLASS:PUBLIC
END:VEVENT
END:VCALENDAR
