BEGIN:VCALENDAR
VERSION:2.0
CALSCALE:GREGORIAN
PRODID:-//Diputació de Barcelona//DibaCMS//EN
BEGIN:VEVENT
UID:22633
DTSTAMP:20260424T140545
DTSTART:20091211T163000
DTEND:20091211T000000
SUMMARY:Serveis i Prestacions
LOCATION:
METHOD:PUBLISH
X-WR-CALNAME:e-seu@ajpiera.cat
X-WR-TIMEZONE:Europe/Madrid
DESCRIPTION:Serveis i Prestacions
URI:https://www.viladepiera.cat/actualitat/agenda/serveis-i-prestacions.html
CLASS:PUBLIC
END:VEVENT
END:VCALENDAR
