BEGIN:VCALENDAR
VERSION:2.0
CALSCALE:GREGORIAN
PRODID:-//Diputació de Barcelona//DibaCMS//EN
BEGIN:VEVENT
UID:22634
DTSTAMP:20260424T080641
DTSTART:20091212T100000
DTEND:20091212T220000
SUMMARY:XI Marató de PTV
LOCATION:
METHOD:PUBLISH
X-WR-CALNAME:e-seu@ajpiera.cat
X-WR-TIMEZONE:Europe/Madrid
DESCRIPTION:XI Marató de PTV
URI:https://www.viladepiera.cat/actualitat/agenda/xi-marato-de-ptv.html
CLASS:PUBLIC
END:VEVENT
END:VCALENDAR
