BEGIN:VCALENDAR
VERSION:2.0
CALSCALE:GREGORIAN
PRODID:-//Diputació de Barcelona//DibaCMS//EN
BEGIN:VEVENT
UID:22635
DTSTAMP:20260424T102613
DTSTART:20091213T180000
DTEND:20091213T000000
SUMMARY:Cinema 
LOCATION:
METHOD:PUBLISH
X-WR-CALNAME:e-seu@ajpiera.cat
X-WR-TIMEZONE:Europe/Madrid
DESCRIPTION:Cinema 
URI:https://www.viladepiera.cat/actualitat/agenda/cinema-.html
CLASS:PUBLIC
END:VEVENT
END:VCALENDAR
