BEGIN:VCALENDAR
VERSION:2.0
CALSCALE:GREGORIAN
PRODID:-//Diputació de Barcelona//DibaCMS//EN
BEGIN:VEVENT
UID:22636
DTSTAMP:20260424T061044
DTSTART:20091215T080000
DTEND:20091215T000000
SUMMARY:Excursió a Rupit
LOCATION:
METHOD:PUBLISH
X-WR-CALNAME:e-seu@ajpiera.cat
X-WR-TIMEZONE:Europe/Madrid
DESCRIPTION:Excursió a Rupit
URI:https://www.viladepiera.cat/actualitat/agenda/excursio-a-rupit.html
CLASS:PUBLIC
END:VEVENT
END:VCALENDAR
