BEGIN:VCALENDAR
VERSION:2.0
CALSCALE:GREGORIAN
PRODID:-//Diputació de Barcelona//DibaCMS//EN
BEGIN:VEVENT
UID:22637
DTSTAMP:20260424T081612
DTSTART:20091216T190000
DTEND:20091216T000000
SUMMARY:Tast de xocolates
LOCATION:
METHOD:PUBLISH
X-WR-CALNAME:e-seu@ajpiera.cat
X-WR-TIMEZONE:Europe/Madrid
DESCRIPTION:Tast de xocolates
URI:https://www.viladepiera.cat/actualitat/agenda/tast-de-xocolates.html
CLASS:PUBLIC
END:VEVENT
END:VCALENDAR
