BEGIN:VCALENDAR
VERSION:2.0
CALSCALE:GREGORIAN
PRODID:-//Diputació de Barcelona//DibaCMS//EN
BEGIN:VEVENT
UID:22638
DTSTAMP:20260424T144246
DTSTART:20091217T180000
DTEND:20091217T000000
SUMMARY:Contes amb gust de torró
LOCATION:
METHOD:PUBLISH
X-WR-CALNAME:e-seu@ajpiera.cat
X-WR-TIMEZONE:Europe/Madrid
DESCRIPTION:Contes amb gust de torró
URI:https://www.viladepiera.cat/actualitat/agenda/contes-amb-gust-de-torro.html
CLASS:PUBLIC
END:VEVENT
END:VCALENDAR
