BEGIN:VCALENDAR
VERSION:2.0
CALSCALE:GREGORIAN
PRODID:-//Diputació de Barcelona//DibaCMS//EN
BEGIN:VEVENT
UID:22639
DTSTAMP:20260424T145906
DTSTART:20091217T180000
DTEND:20091217T000000
SUMMARY:Aniversari Associació Dones
LOCATION:
METHOD:PUBLISH
X-WR-CALNAME:e-seu@ajpiera.cat
X-WR-TIMEZONE:Europe/Madrid
DESCRIPTION:Aniversari Associació Dones
URI:https://www.viladepiera.cat/actualitat/agenda/aniversari-associacio-dones.html
CLASS:PUBLIC
END:VEVENT
END:VCALENDAR
