BEGIN:VCALENDAR
VERSION:2.0
CALSCALE:GREGORIAN
PRODID:-//Diputació de Barcelona//DibaCMS//EN
BEGIN:VEVENT
UID:22641
DTSTAMP:20260424T090609
DTSTART:20091218T200000
DTEND:20091218T000000
SUMMARY:Recepció a Toni Bou
LOCATION:
METHOD:PUBLISH
X-WR-CALNAME:e-seu@ajpiera.cat
X-WR-TIMEZONE:Europe/Madrid
DESCRIPTION:Recepció a Toni Bou
URI:https://www.viladepiera.cat/actualitat/agenda/22641-recepcio-a-toni-bou.html
CLASS:PUBLIC
END:VEVENT
END:VCALENDAR
