BEGIN:VCALENDAR
VERSION:2.0
CALSCALE:GREGORIAN
PRODID:-//Diputació de Barcelona//DibaCMS//EN
BEGIN:VEVENT
UID:22649
DTSTAMP:20260424T095221
DTSTART:20091219T213000
DTEND:20091219T000000
SUMMARY:Això què és?
LOCATION:
METHOD:PUBLISH
X-WR-CALNAME:e-seu@ajpiera.cat
X-WR-TIMEZONE:Europe/Madrid
DESCRIPTION:Això què és?
URI:https://www.viladepiera.cat/actualitat/agenda/aixo-que-es.html
CLASS:PUBLIC
END:VEVENT
END:VCALENDAR
