BEGIN:VCALENDAR
VERSION:2.0
CALSCALE:GREGORIAN
PRODID:-//Diputació de Barcelona//DibaCMS//EN
BEGIN:VEVENT
UID:22654
DTSTAMP:20260424T064134
DTSTART:20091223T210000
DTEND:20091223T000000
SUMMARY:Ple Extraordinari
LOCATION:
METHOD:PUBLISH
X-WR-CALNAME:e-seu@ajpiera.cat
X-WR-TIMEZONE:Europe/Madrid
DESCRIPTION:Ple Extraordinari
URI:https://www.viladepiera.cat/actualitat/agenda/22654-ple-extraordinari.html
CLASS:PUBLIC
END:VEVENT
END:VCALENDAR
