BEGIN:VCALENDAR
VERSION:2.0
CALSCALE:GREGORIAN
PRODID:-//Diputació de Barcelona//DibaCMS//EN
BEGIN:VEVENT
UID:22656
DTSTAMP:20260424T085225
DTSTART:20091224T000000
DTEND:20091224T000000
SUMMARY:Missa del Gall
LOCATION:
METHOD:PUBLISH
X-WR-CALNAME:e-seu@ajpiera.cat
X-WR-TIMEZONE:Europe/Madrid
DESCRIPTION:Missa del Gall
URI:https://www.viladepiera.cat/actualitat/agenda/missa-del-gall.html
CLASS:PUBLIC
END:VEVENT
END:VCALENDAR
