BEGIN:VCALENDAR
VERSION:2.0
CALSCALE:GREGORIAN
PRODID:-//Diputació de Barcelona//DibaCMS//EN
BEGIN:VEVENT
UID:22657
DTSTAMP:20260424T074313
DTSTART:20091224T000000
DTEND:20091224T000000
SUMMARY:VII Campionat de futbol Sala Nadal 2009
LOCATION:
METHOD:PUBLISH
X-WR-CALNAME:e-seu@ajpiera.cat
X-WR-TIMEZONE:Europe/Madrid
DESCRIPTION:VII Campionat de futbol Sala Nadal 2009
URI:https://www.viladepiera.cat/actualitat/agenda/vii-campionat-de-futbol-sala-nadal-2009.html
CLASS:PUBLIC
END:VEVENT
END:VCALENDAR
