BEGIN:VCALENDAR
VERSION:2.0
CALSCALE:GREGORIAN
PRODID:-//Diputació de Barcelona//DibaCMS//EN
BEGIN:VEVENT
UID:22658
DTSTAMP:20260424T095031
DTSTART:20091225T111500
DTEND:20091225T000000
SUMMARY:Missa de Nadal
LOCATION:
METHOD:PUBLISH
X-WR-CALNAME:e-seu@ajpiera.cat
X-WR-TIMEZONE:Europe/Madrid
DESCRIPTION:Missa de Nadal
URI:https://www.viladepiera.cat/actualitat/agenda/22658-missa-de-nadal.html
CLASS:PUBLIC
END:VEVENT
END:VCALENDAR
