BEGIN:VCALENDAR
VERSION:2.0
CALSCALE:GREGORIAN
PRODID:-//Diputació de Barcelona//DibaCMS//EN
BEGIN:VEVENT
UID:22660
DTSTAMP:20260424T064301
DTSTART:20091225T180000
DTEND:20091225T210000
SUMMARY:XX Representació del Pessebre Vivent
LOCATION:
METHOD:PUBLISH
X-WR-CALNAME:e-seu@ajpiera.cat
X-WR-TIMEZONE:Europe/Madrid
DESCRIPTION:XX Representació del Pessebre Vivent
URI:https://www.viladepiera.cat/actualitat/agenda/xx-representacio-del-pessebre-vivent.html
CLASS:PUBLIC
END:VEVENT
END:VCALENDAR
