BEGIN:VCALENDAR
VERSION:2.0
CALSCALE:GREGORIAN
PRODID:-//Diputació de Barcelona//DibaCMS//EN
BEGIN:VEVENT
UID:22661
DTSTAMP:20260424T085137
DTSTART:20091226T090000
DTEND:20091226T000000
SUMMARY:57è Concurs de pessebres
LOCATION:
METHOD:PUBLISH
X-WR-CALNAME:e-seu@ajpiera.cat
X-WR-TIMEZONE:Europe/Madrid
DESCRIPTION:57è Concurs de pessebres
URI:https://www.viladepiera.cat/actualitat/agenda/57e-concurs-de-pessebres.html
CLASS:PUBLIC
END:VEVENT
END:VCALENDAR
