BEGIN:VCALENDAR
VERSION:2.0
CALSCALE:GREGORIAN
PRODID:-//Diputació de Barcelona//DibaCMS//EN
BEGIN:VEVENT
UID:22665
DTSTAMP:20260424T045519
DTSTART:20091228T000000
DTEND:20091230T000000
SUMMARY:VII Campionat de futbol Sala Nadal 2009
LOCATION:
METHOD:PUBLISH
X-WR-CALNAME:e-seu@ajpiera.cat
X-WR-TIMEZONE:Europe/Madrid
DESCRIPTION:VII Campionat de futbol Sala Nadal 2009
URI:https://www.viladepiera.cat/actualitat/agenda/22665-vii-campionat-de-futbol-sala-nadal-2009.html
CLASS:PUBLIC
END:VEVENT
END:VCALENDAR
