BEGIN:VCALENDAR
VERSION:2.0
CALSCALE:GREGORIAN
PRODID:-//Diputació de Barcelona//DibaCMS//EN
BEGIN:VEVENT
UID:22668
DTSTAMP:20260424T054850
DTSTART:20100101T111500
DTEND:20100101T000000
SUMMARY:Missa d'Any Nou
LOCATION:
METHOD:PUBLISH
X-WR-CALNAME:e-seu@ajpiera.cat
X-WR-TIMEZONE:Europe/Madrid
DESCRIPTION:Missa d'Any Nou
URI:https://www.viladepiera.cat/actualitat/agenda/22668-missa-dany-nou.html
CLASS:PUBLIC
END:VEVENT
END:VCALENDAR
