BEGIN:VCALENDAR
VERSION:2.0
CALSCALE:GREGORIAN
PRODID:-//Diputació de Barcelona//DibaCMS//EN
BEGIN:VEVENT
UID:22672
DTSTAMP:20260424T101655
DTSTART:20100102T110000
DTEND:20100102T140000
SUMMARY:Matinal d'aigua
LOCATION:
METHOD:PUBLISH
X-WR-CALNAME:e-seu@ajpiera.cat
X-WR-TIMEZONE:Europe/Madrid
DESCRIPTION:Matinal d'aigua
URI:https://www.viladepiera.cat/actualitat/agenda/matinal-daigua.html
CLASS:PUBLIC
END:VEVENT
END:VCALENDAR
