BEGIN:VCALENDAR
VERSION:2.0
CALSCALE:GREGORIAN
PRODID:-//Diputació de Barcelona//DibaCMS//EN
BEGIN:VEVENT
UID:22673
DTSTAMP:20260424T075917
DTSTART:20100102T200000
DTEND:20100102T220000
SUMMARY:Ball
LOCATION:
METHOD:PUBLISH
X-WR-CALNAME:e-seu@ajpiera.cat
X-WR-TIMEZONE:Europe/Madrid
DESCRIPTION:Ball
URI:https://www.viladepiera.cat/actualitat/agenda/22673-ball.html
CLASS:PUBLIC
END:VEVENT
END:VCALENDAR
