BEGIN:VCALENDAR
VERSION:2.0
CALSCALE:GREGORIAN
PRODID:-//Diputació de Barcelona//DibaCMS//EN
BEGIN:VEVENT
UID:22674
DTSTAMP:20260424T065836
DTSTART:20100102T100000
DTEND:20100102T140000
SUMMARY:Les copes del Barça
LOCATION:
METHOD:PUBLISH
X-WR-CALNAME:e-seu@ajpiera.cat
X-WR-TIMEZONE:Europe/Madrid
DESCRIPTION:Les copes del Barça
URI:https://www.viladepiera.cat/actualitat/agenda/les-copes-del-barca.html
CLASS:PUBLIC
END:VEVENT
END:VCALENDAR
