BEGIN:VCALENDAR
VERSION:2.0
CALSCALE:GREGORIAN
PRODID:-//Diputació de Barcelona//DibaCMS//EN
BEGIN:VEVENT
UID:22675
DTSTAMP:20260424T045701
DTSTART:20100103T000000
DTEND:20100103T000000
SUMMARY:XIV Saló de la Infància i la Joventut
LOCATION:
METHOD:PUBLISH
X-WR-CALNAME:e-seu@ajpiera.cat
X-WR-TIMEZONE:Europe/Madrid
DESCRIPTION:XIV Saló de la Infància i la Joventut
URI:https://www.viladepiera.cat/actualitat/agenda/22675-xiv-salo-de-la-infancia-i-la-joventut.html
CLASS:PUBLIC
END:VEVENT
END:VCALENDAR
