BEGIN:VCALENDAR
VERSION:2.0
CALSCALE:GREGORIAN
PRODID:-//Diputació de Barcelona//DibaCMS//EN
BEGIN:VEVENT
UID:22676
DTSTAMP:20260424T155923
DTSTART:20100104T190000
DTEND:20100104T220000
SUMMARY:Reserves Reis
LOCATION:
METHOD:PUBLISH
X-WR-CALNAME:e-seu@ajpiera.cat
X-WR-TIMEZONE:Europe/Madrid
DESCRIPTION:Reserves Reis
URI:https://www.viladepiera.cat/actualitat/agenda/reserves-reis.html
CLASS:PUBLIC
END:VEVENT
END:VCALENDAR
