BEGIN:VCALENDAR
VERSION:2.0
CALSCALE:GREGORIAN
PRODID:-//Diputació de Barcelona//DibaCMS//EN
BEGIN:VEVENT
UID:22677
DTSTAMP:20260423T000526
DTSTART:20100105T111500
DTEND:20100105T000000
SUMMARY:Missa solemne de Reis
LOCATION:
METHOD:PUBLISH
X-WR-CALNAME:e-seu@ajpiera.cat
X-WR-TIMEZONE:Europe/Madrid
DESCRIPTION:Missa solemne de Reis
URI:https://www.viladepiera.cat/actualitat/agenda/missa-solemne-de-reis.html
CLASS:PUBLIC
END:VEVENT
END:VCALENDAR
