BEGIN:VCALENDAR
VERSION:2.0
CALSCALE:GREGORIAN
PRODID:-//Diputació de Barcelona//DibaCMS//EN
BEGIN:VEVENT
UID:22678
DTSTAMP:20260424T063411
DTSTART:20100105T183000
DTEND:20100105T000000
SUMMARY:63a Cavalcada de Reis
LOCATION:
METHOD:PUBLISH
X-WR-CALNAME:e-seu@ajpiera.cat
X-WR-TIMEZONE:Europe/Madrid
DESCRIPTION:63a Cavalcada de Reis
URI:https://www.viladepiera.cat/actualitat/agenda/63a-cavalcada-de-reis.html
CLASS:PUBLIC
END:VEVENT
END:VCALENDAR
