BEGIN:VCALENDAR
VERSION:2.0
CALSCALE:GREGORIAN
PRODID:-//Diputació de Barcelona//DibaCMS//EN
BEGIN:VEVENT
UID:22679
DTSTAMP:20260424T064056
DTSTART:20100105T000000
DTEND:20100105T000000
SUMMARY:Cavalcades de Reis als Barris
LOCATION:
METHOD:PUBLISH
X-WR-CALNAME:e-seu@ajpiera.cat
X-WR-TIMEZONE:Europe/Madrid
DESCRIPTION:Cavalcades de Reis als Barris
URI:https://www.viladepiera.cat/actualitat/agenda/cavalcades-de-reis-als-barris.html
CLASS:PUBLIC
END:VEVENT
END:VCALENDAR
