BEGIN:VCALENDAR
VERSION:2.0
CALSCALE:GREGORIAN
PRODID:-//Diputació de Barcelona//DibaCMS//EN
BEGIN:VEVENT
UID:22680
DTSTAMP:20260424T064245
DTSTART:20100108T153000
DTEND:20100108T000000
SUMMARY:Consumeix fins a morir
LOCATION:
METHOD:PUBLISH
X-WR-CALNAME:e-seu@ajpiera.cat
X-WR-TIMEZONE:Europe/Madrid
DESCRIPTION:Consumeix fins a morir
URI:https://www.viladepiera.cat/actualitat/agenda/consumeix-fins-a-morir.html
CLASS:PUBLIC
END:VEVENT
END:VCALENDAR
