BEGIN:VCALENDAR
VERSION:2.0
CALSCALE:GREGORIAN
PRODID:-//Diputació de Barcelona//DibaCMS//EN
BEGIN:VEVENT
UID:22682
DTSTAMP:20260424T064001
DTSTART:20100113T210000
DTEND:20100113T223000
SUMMARY:Taller de balls de saló
LOCATION:
METHOD:PUBLISH
X-WR-CALNAME:e-seu@ajpiera.cat
X-WR-TIMEZONE:Europe/Madrid
DESCRIPTION:Taller de balls de saló
URI:https://www.viladepiera.cat/actualitat/agenda/taller-de-balls-de-salo.html
CLASS:PUBLIC
END:VEVENT
END:VCALENDAR
